BEGIN:VCALENDAR
VERSION:2.0
PRODID:-//GS Fredenberg - ECPv6.15.11//NONSGML v1.0//EN
CALSCALE:GREGORIAN
METHOD:PUBLISH
X-WR-CALNAME:GS Fredenberg
X-ORIGINAL-URL:https://gs-fredenberg.de
X-WR-CALDESC:Veranstaltungen für GS Fredenberg
REFRESH-INTERVAL;VALUE=DURATION:PT1H
X-Robots-Tag:noindex
X-PUBLISHED-TTL:PT1H
BEGIN:VTIMEZONE
TZID:Europe/Berlin
BEGIN:DAYLIGHT
TZOFFSETFROM:+0100
TZOFFSETTO:+0200
TZNAME:CEST
DTSTART:20240331T010000
END:DAYLIGHT
BEGIN:STANDARD
TZOFFSETFROM:+0200
TZOFFSETTO:+0100
TZNAME:CET
DTSTART:20241027T010000
END:STANDARD
BEGIN:DAYLIGHT
TZOFFSETFROM:+0100
TZOFFSETTO:+0200
TZNAME:CEST
DTSTART:20250330T010000
END:DAYLIGHT
BEGIN:STANDARD
TZOFFSETFROM:+0200
TZOFFSETTO:+0100
TZNAME:CET
DTSTART:20251026T010000
END:STANDARD
BEGIN:DAYLIGHT
TZOFFSETFROM:+0100
TZOFFSETTO:+0200
TZNAME:CEST
DTSTART:20260329T010000
END:DAYLIGHT
BEGIN:STANDARD
TZOFFSETFROM:+0200
TZOFFSETTO:+0100
TZNAME:CET
DTSTART:20261025T010000
END:STANDARD
BEGIN:DAYLIGHT
TZOFFSETFROM:+0100
TZOFFSETTO:+0200
TZNAME:CEST
DTSTART:20270328T010000
END:DAYLIGHT
BEGIN:STANDARD
TZOFFSETFROM:+0200
TZOFFSETTO:+0100
TZNAME:CET
DTSTART:20271031T010000
END:STANDARD
END:VTIMEZONE
BEGIN:VEVENT
DTSTART;VALUE=DATE:20260323
DTEND;VALUE=DATE:20260408
DTSTAMP:20260422T144455
CREATED:20260109T122409Z
LAST-MODIFIED:20260209T122654Z
UID:12300-1774224000-1775606399@gs-fredenberg.de
SUMMARY:Osterferien
DESCRIPTION:
URL:https://gs-fredenberg.de/event/zeugnisferien/
END:VEVENT
BEGIN:VEVENT
DTSTART;VALUE=DATE:20251222
DTEND;VALUE=DATE:20260106
DTSTAMP:20260422T144455
CREATED:20251209T122159Z
LAST-MODIFIED:20260209T122338Z
UID:12298-1766361600-1767657599@gs-fredenberg.de
SUMMARY:Weihnachtsferien
DESCRIPTION:22.12.2025 – 05.01.2026
URL:https://gs-fredenberg.de/event/weihnachtsferien/
END:VEVENT
BEGIN:VEVENT
DTSTART;VALUE=DATE:20251027
DTEND;VALUE=DATE:20251028
DTSTAMP:20260422T144455
CREATED:20250924T105730Z
LAST-MODIFIED:20250924T105730Z
UID:12194-1761523200-1761609599@gs-fredenberg.de
SUMMARY:Erster Schultag nach den Herbstferien
DESCRIPTION:
URL:https://gs-fredenberg.de/event/erster-schultag-nach-den-herbstferien/
END:VEVENT
BEGIN:VEVENT
DTSTART;VALUE=DATE:20251010
DTEND;VALUE=DATE:20251011
DTSTAMP:20260422T144455
CREATED:20250924T105648Z
LAST-MODIFIED:20250924T105648Z
UID:12192-1760054400-1760140799@gs-fredenberg.de
SUMMARY:Letzter Schultag vor den Herbstferien
DESCRIPTION:
URL:https://gs-fredenberg.de/event/letzter-schultag-vor-den-herbstferien/
END:VEVENT
BEGIN:VEVENT
DTSTART;TZID=Europe/Berlin:20251009T163000
DTEND;TZID=Europe/Berlin:20251009T173000
DTSTAMP:20260422T144455
CREATED:20250924T103757Z
LAST-MODIFIED:20250924T103757Z
UID:12188-1760027400-1760031000@gs-fredenberg.de
SUMMARY:Elternabend GS - KiTa: gut vorbereitet auf die Schule?
DESCRIPTION:
URL:https://gs-fredenberg.de/event/elternabend-gs-kita-gut-vorbereitet-auf-die-schule/
END:VEVENT
BEGIN:VEVENT
DTSTART;TZID=Europe/Berlin:20251008T101500
DTEND;TZID=Europe/Berlin:20251008T103500
DTSTAMP:20260422T144455
CREATED:20250924T103526Z
LAST-MODIFIED:20250924T103526Z
UID:12184-1759918500-1759919700@gs-fredenberg.de
SUMMARY:Pausendisco
DESCRIPTION:mit der 2e
URL:https://gs-fredenberg.de/event/pausendisco/
END:VEVENT
BEGIN:VEVENT
DTSTART;TZID=Europe/Berlin:20251006T140000
DTEND;TZID=Europe/Berlin:20251006T181000
DTSTAMP:20260422T144455
CREATED:20250924T103423Z
LAST-MODIFIED:20250924T103423Z
UID:12182-1759759200-1759774200@gs-fredenberg.de
SUMMARY:Förderkonferenzen Klassen 2-4
DESCRIPTION:
URL:https://gs-fredenberg.de/event/foerderkonferenzen-klassen-2-4/
END:VEVENT
BEGIN:VEVENT
DTSTART;VALUE=DATE:20251006
DTEND;VALUE=DATE:20251011
DTSTAMP:20260422T144455
CREATED:20250924T103615Z
LAST-MODIFIED:20250924T103615Z
UID:12186-1759708800-1760140799@gs-fredenberg.de
SUMMARY:Herbstforum in der Aula
DESCRIPTION:
URL:https://gs-fredenberg.de/event/herbstforum-in-der-aula/
END:VEVENT
BEGIN:VEVENT
DTSTART;TZID=Europe/Berlin:20250929T170000
DTEND;TZID=Europe/Berlin:20250929T183000
DTSTAMP:20260422T144455
CREATED:20250924T094057Z
LAST-MODIFIED:20250924T094057Z
UID:12175-1759165200-1759170600@gs-fredenberg.de
SUMMARY:Elternrat
DESCRIPTION:
URL:https://gs-fredenberg.de/event/elternrat/
END:VEVENT
BEGIN:VEVENT
DTSTART;VALUE=DATE:20250922
DTEND;VALUE=DATE:20250923
DTSTAMP:20260422T144455
CREATED:20250910T094246Z
LAST-MODIFIED:20250924T094524Z
UID:12178-1758499200-1758585599@gs-fredenberg.de
SUMMARY:SchiLF - Lehrerfortbildung
DESCRIPTION:Alle Kinder haben an diesem Tag schulfrei. Eine Notbetreuung wird angeboten.
URL:https://gs-fredenberg.de/event/schilf-lehrerfortbildung/
END:VEVENT
BEGIN:VEVENT
DTSTART;TZID=Europe/Berlin:20250816T100000
DTEND;TZID=Europe/Berlin:20250816T110000
DTSTAMP:20260422T144455
CREATED:20250812T062214Z
LAST-MODIFIED:20250812T062255Z
UID:12132-1755338400-1755342000@gs-fredenberg.de
SUMMARY:Einschulung 1d und Schuki
DESCRIPTION:
URL:https://gs-fredenberg.de/event/einschulung-1d-und-schuki/
END:VEVENT
BEGIN:VEVENT
DTSTART;TZID=Europe/Berlin:20250816T090000
DTEND;TZID=Europe/Berlin:20250816T100000
DTSTAMP:20260422T144455
CREATED:20250812T062045Z
LAST-MODIFIED:20250812T062045Z
UID:12130-1755334800-1755338400@gs-fredenberg.de
SUMMARY:Einschulung 1a\, 1b und 1c
DESCRIPTION:
URL:https://gs-fredenberg.de/event/einschulung-1a-1b-und-1c/
END:VEVENT
BEGIN:VEVENT
DTSTART;VALUE=DATE:20250814
DTEND;VALUE=DATE:20250815
DTSTAMP:20260422T144455
CREATED:20250606T100121Z
LAST-MODIFIED:20250606T100212Z
UID:12050-1755129600-1755215999@gs-fredenberg.de
SUMMARY:Erster Schultag nach den Ferien
DESCRIPTION:
URL:https://gs-fredenberg.de/event/1-schultag/
END:VEVENT
BEGIN:VEVENT
DTSTART;VALUE=DATE:20250702
DTEND;VALUE=DATE:20250703
DTSTAMP:20260422T144455
CREATED:20250516T061406Z
LAST-MODIFIED:20250516T061406Z
UID:12017-1751414400-1751500799@gs-fredenberg.de
SUMMARY:Letzter Schultag (Zeugnisausgabe und Abschied 4. Jahrgang)
DESCRIPTION:
URL:https://gs-fredenberg.de/event/letzter-schultag-zeugnisausgabe-und-abschied-4-jahrgang/
END:VEVENT
BEGIN:VEVENT
DTSTART;TZID=Europe/Berlin:20250624T140000
DTEND;TZID=Europe/Berlin:20250624T180000
DTSTAMP:20260422T144455
CREATED:20250516T054044Z
LAST-MODIFIED:20250516T061706Z
UID:12015-1750773600-1750788000@gs-fredenberg.de
SUMMARY:Zeugnis- und Förderkonferenzen (Jg. 3 und 4)
DESCRIPTION:
URL:https://gs-fredenberg.de/event/zeugnis-und-foerderkonferenzen-jg-3-und-4/
END:VEVENT
BEGIN:VEVENT
DTSTART;TZID=Europe/Berlin:20250623T140000
DTEND;TZID=Europe/Berlin:20250623T180000
DTSTAMP:20260422T144455
CREATED:20250516T053958Z
LAST-MODIFIED:20250516T061723Z
UID:12013-1750687200-1750701600@gs-fredenberg.de
SUMMARY:Zeugnis- und Förderkonferenzen (Jg. 1 und 2)
DESCRIPTION:
URL:https://gs-fredenberg.de/event/zeugnis-und-foerderkonferenzen-jg-1-und-2/
END:VEVENT
BEGIN:VEVENT
DTSTART;TZID=Europe/Berlin:20250616T160000
DTEND;TZID=Europe/Berlin:20250616T180000
DTSTAMP:20260422T144455
CREATED:20250516T053846Z
LAST-MODIFIED:20250606T090108Z
UID:12011-1750089600-1750096800@gs-fredenberg.de
SUMMARY:Elternabend (neue 1. Klassen)
DESCRIPTION:Einladung Elternabend 16.06.2025
URL:https://gs-fredenberg.de/event/elternabend-neue-1-klassen/
END:VEVENT
BEGIN:VEVENT
DTSTART;TZID=Europe/Berlin:20250604T163000
DTEND;TZID=Europe/Berlin:20250604T173000
DTSTAMP:20260422T144455
CREATED:20250516T053121Z
LAST-MODIFIED:20250516T053121Z
UID:12008-1749054600-1749058200@gs-fredenberg.de
SUMMARY:Schulvorstand
DESCRIPTION:
URL:https://gs-fredenberg.de/event/schulvorstand/
END:VEVENT
BEGIN:VEVENT
DTSTART;TZID=Europe/Berlin:20250604T150000
DTEND;TZID=Europe/Berlin:20250604T163000
DTSTAMP:20260422T144455
CREATED:20250516T053033Z
LAST-MODIFIED:20250516T053033Z
UID:12006-1749049200-1749054600@gs-fredenberg.de
SUMMARY:Gesamtkonferenz
DESCRIPTION:
URL:https://gs-fredenberg.de/event/gesamtkonferenz/
END:VEVENT
END:VCALENDAR